BEGIN:VCALENDAR
VERSION:2.0
PRODID:-//Scraps - ECPv6.6.4.2//NONSGML v1.0//EN
CALSCALE:GREGORIAN
METHOD:PUBLISH
X-ORIGINAL-URL:https://scrapsmilehigh.com
X-WR-CALDESC:Events for Scraps
REFRESH-INTERVAL;VALUE=DURATION:PT1H
X-Robots-Tag:noindex
X-PUBLISHED-TTL:PT1H
BEGIN:VTIMEZONE
TZID:America/Denver
BEGIN:DAYLIGHT
TZOFFSETFROM:-0700
TZOFFSETTO:-0600
TZNAME:MDT
DTSTART:20240310T090000
END:DAYLIGHT
BEGIN:STANDARD
TZOFFSETFROM:-0600
TZOFFSETTO:-0700
TZNAME:MST
DTSTART:20241103T080000
END:STANDARD
END:VTIMEZONE
BEGIN:VEVENT
DTSTART;TZID=America/Denver:20240910T080000
DTEND;TZID=America/Denver:20240910T170000
DTSTAMP:20260424T063248
CREATED:20240910T172708Z
LAST-MODIFIED:20240910T172849Z
UID:10000046-1725955200-1725987600@scrapsmilehigh.com
SUMMARY:Career Days - Colorado School of Mines
DESCRIPTION:
URL:https://scrapsmilehigh.com/zero-waste-event-cal/career-days-colorado-school-of-mines/
LOCATION:Colorado School of Mines Common Area
END:VEVENT
BEGIN:VEVENT
DTSTART;TZID=America/Denver:20240911T162918
DTEND;TZID=America/Denver:20240911T162918
DTSTAMP:20260424T063248
CREATED:20240918T212922Z
LAST-MODIFIED:20240918T212922Z
UID:10000054-1726072158-1726072158@scrapsmilehigh.com
SUMMARY:Career Days
DESCRIPTION:
URL:https://scrapsmilehigh.com/zero-waste-event-cal/career-days-2/
LOCATION:CO
END:VEVENT
BEGIN:VEVENT
DTSTART;TZID=America/Denver:20240919T173000
DTEND;TZID=America/Denver:20240919T220000
DTSTAMP:20260424T063248
CREATED:20240910T172532Z
LAST-MODIFIED:20240910T172532Z
UID:10000045-1726767000-1726783200@scrapsmilehigh.com
SUMMARY:Gather Round
DESCRIPTION:Scraps is providing zero-waste services for Gather Round! \nZero-Waste Crew positions available! \nIf you are interested in joining us as staff at an event on our calendar\, please reach out to us: events@scrapsmilehigh.com. Please include your resume and a cover letter. Management opportunities are available for $25/hr.
URL:https://scrapsmilehigh.com/zero-waste-event-cal/gather-round/
LOCATION:Reel Works Denver\, 1399 35th St\, Denver\, Co\, 80205
END:VEVENT
BEGIN:VEVENT
DTSTART;TZID=America/Denver:20240920T000000
DTEND;TZID=America/Denver:20240920T000000
DTSTAMP:20260424T063248
CREATED:20240918T212925Z
LAST-MODIFIED:20240918T212925Z
UID:10000055-1726790400-1726790400@scrapsmilehigh.com
SUMMARY:73L Jazz Speakeasy
DESCRIPTION:
URL:https://scrapsmilehigh.com/zero-waste-event-cal/73l-jazz-speakeasy-2/
LOCATION:CO
END:VEVENT
BEGIN:VEVENT
DTSTART;TZID=America/Denver:20240921T130000
DTEND;TZID=America/Denver:20240921T210000
DTSTAMP:20260424T063248
CREATED:20240910T172040Z
LAST-MODIFIED:20240910T172248Z
UID:10000044-1726923600-1726952400@scrapsmilehigh.com
SUMMARY:Hometown Festival
DESCRIPTION:Scraps is providing zero-waste services for the Hometown Festival! \nZero-Waste Crew positions available! \nIf you are interested in joining us as staff at an event on our calendar\, please reach out to us: events@scrapsmilehigh.com. Please include your resume and a cover letter. Management opportunities are available for $25/hr.
URL:https://scrapsmilehigh.com/zero-waste-event-cal/hometown-festival/
LOCATION:Citizen’s Park\, 5401 W 22nd Ave\, Edgewater\, Co\, 80214
END:VEVENT
BEGIN:VEVENT
DTSTART;TZID=America/Denver:20240922T000000
DTEND;TZID=America/Denver:20240922T000000
DTSTAMP:20260424T063248
CREATED:20240918T211607Z
LAST-MODIFIED:20240918T211607Z
UID:10000048-1726963200-1726963200@scrapsmilehigh.com
SUMMARY:Hispanic Heritage Day
DESCRIPTION:
URL:https://scrapsmilehigh.com/zero-waste-event-cal/hispanic-heritage-day/
LOCATION:CO
END:VEVENT
BEGIN:VEVENT
DTSTART;TZID=America/Denver:20240924T000000
DTEND;TZID=America/Denver:20240924T000000
DTSTAMP:20260424T063248
CREATED:20240918T212925Z
LAST-MODIFIED:20240918T212925Z
UID:10000056-1727136000-1727136000@scrapsmilehigh.com
SUMMARY:Employee Picnic
DESCRIPTION:
URL:https://scrapsmilehigh.com/zero-waste-event-cal/employee-picnic/
LOCATION:CO
END:VEVENT
BEGIN:VEVENT
DTSTART;VALUE=DATE:20240924
DTEND;VALUE=DATE:20240928
DTSTAMP:20260424T063248
CREATED:20240910T171619Z
LAST-MODIFIED:20240910T171730Z
UID:10000043-1727136000-1727481599@scrapsmilehigh.com
SUMMARY:World Centric Retreat
DESCRIPTION:Scraps is providing zero-waste services for the World Centric Retreat! \nZero-Waste Crew positions available! \nIf you are interested in joining us as staff at an event on our calendar\, please reach out to us: events@scrapsmilehigh.com. Please include your resume and a cover letter. Management opportunities are available for $25/hr.
URL:https://scrapsmilehigh.com/zero-waste-event-cal/world-centric-retreat/
LOCATION:Winter Park Resort\, 85 Parsenn Rd\, Winter Park\, Colorado\, 80482
END:VEVENT
BEGIN:VEVENT
DTSTART;TZID=America/Denver:20240928T150000
DTEND;TZID=America/Denver:20240928T210000
DTSTAMP:20260424T063248
CREATED:20240910T171309Z
LAST-MODIFIED:20240918T224539Z
UID:10000042-1727535600-1727557200@scrapsmilehigh.com
SUMMARY:Wedding
DESCRIPTION:Scraps is providing zero-waste services for the Gonulsen – Hodgin Wedding! \nZero-Waste Crew positions available! \nIf you are interested in joining us as staff at an event on our calendar\, please reach out to us: events@scrapsmilehigh.com. Please include your resume and a cover letter. Management opportunities are available for $25/hr.
URL:https://scrapsmilehigh.com/zero-waste-event-cal/gonulsen-hodgin-wedding/
LOCATION:CO
END:VEVENT
BEGIN:VEVENT
DTSTART;TZID=America/Denver:20240930T170000
DTEND;TZID=America/Denver:20240930T200000
DTSTAMP:20260424T063248
CREATED:20240520T180257Z
LAST-MODIFIED:20240520T180257Z
UID:10000035-1727715600-1727726400@scrapsmilehigh.com
SUMMARY:EatDenver Harvest Week
DESCRIPTION:Scraps will be providing zero-waste services for EatDenver’s Harvest Week! This annual event celebrates Denver’s system of local\, independent restaurants! \n\nIf you are interested in joining us as staff at this event or another event on our calendar\, please reach out to us at: events@scrapsmilehigh.com. Please include your resume and a cover letter. Management opportunities are available for $27/hr.
URL:https://scrapsmilehigh.com/zero-waste-event-cal/eatdenver-harvest-week/2024-09-30/
LOCATION:Ironton Distillery & Crafthouse\, 3636 Chestnut Place\, Denver\, CO\, 80216\, United States
ATTACH;FMTTYPE=image/png:/wp-content/uploads/EatDenver_Logo.png
END:VEVENT
END:VCALENDAR