BEGIN:VCALENDAR
VERSION:2.0
PRODID:-//Scraps - ECPv6.6.4.2//NONSGML v1.0//EN
CALSCALE:GREGORIAN
METHOD:PUBLISH
X-ORIGINAL-URL:https://scrapsmilehigh.com
X-WR-CALDESC:Events for Scraps
REFRESH-INTERVAL;VALUE=DURATION:PT1H
X-Robots-Tag:noindex
X-PUBLISHED-TTL:PT1H
BEGIN:VTIMEZONE
TZID:America/Denver
BEGIN:DAYLIGHT
TZOFFSETFROM:-0700
TZOFFSETTO:-0600
TZNAME:MDT
DTSTART:20240310T090000
END:DAYLIGHT
BEGIN:STANDARD
TZOFFSETFROM:-0600
TZOFFSETTO:-0700
TZNAME:MST
DTSTART:20241103T080000
END:STANDARD
END:VTIMEZONE
BEGIN:VEVENT
DTSTART;TZID=America/Denver:20240928T150000
DTEND;TZID=America/Denver:20240928T210000
DTSTAMP:20260424T035007
CREATED:20240910T171309Z
LAST-MODIFIED:20240918T224539Z
UID:10000042-1727535600-1727557200@scrapsmilehigh.com
SUMMARY:Wedding
DESCRIPTION:Scraps is providing zero-waste services for the Gonulsen – Hodgin Wedding! \nZero-Waste Crew positions available! \nIf you are interested in joining us as staff at an event on our calendar\, please reach out to us: events@scrapsmilehigh.com. Please include your resume and a cover letter. Management opportunities are available for $25/hr.
URL:https://scrapsmilehigh.com/zero-waste-event-cal/gonulsen-hodgin-wedding/
LOCATION:CO
END:VEVENT
END:VCALENDAR