BEGIN:VCALENDAR
VERSION:2.0
PRODID:-//Scraps - ECPv6.6.4.2//NONSGML v1.0//EN
CALSCALE:GREGORIAN
METHOD:PUBLISH
X-ORIGINAL-URL:https://scrapsmilehigh.com
X-WR-CALDESC:Events for Scraps
REFRESH-INTERVAL;VALUE=DURATION:PT1H
X-Robots-Tag:noindex
X-PUBLISHED-TTL:PT1H
BEGIN:VTIMEZONE
TZID:America/Denver
BEGIN:DAYLIGHT
TZOFFSETFROM:-0700
TZOFFSETTO:-0600
TZNAME:MDT
DTSTART:20240310T090000
END:DAYLIGHT
BEGIN:STANDARD
TZOFFSETFROM:-0600
TZOFFSETTO:-0700
TZNAME:MST
DTSTART:20241103T080000
END:STANDARD
END:VTIMEZONE
BEGIN:VEVENT
DTSTART;TZID=America/Denver:20240809T173000
DTEND;TZID=America/Denver:20240809T213000
DTSTAMP:20260424T091446
CREATED:20240515T161049Z
LAST-MODIFIED:20240515T161351Z
UID:10000023-1723224600-1723239000@scrapsmilehigh.com
SUMMARY:Louisville Street Faire
DESCRIPTION:Scraps will be providing zero-waste services for the Louisville Street Faire on Friday evenings in June\, July\, and August! \nMultiple Zero-Waste Crew positions are open for dates throughout the summer!  \nIf you are interested in joining us as staff at one of these events\, please reach out to us: info@scrapsmilehigh.com. Please include your resume and a cover letter. Management opportunities are available for $25/hr.
URL:https://scrapsmilehigh.com/zero-waste-event-cal/louisville-street-faire/2024-08-09/
LOCATION:Steinbaugh Pavilion\, 824 Front Street\, Louisville\, CO\, 80027\, United States
ATTACH;FMTTYPE=image/jpeg:/wp-content/uploads/IMG-5282-1-scaled.jpg
END:VEVENT
END:VCALENDAR