BEGIN:VCALENDAR
VERSION:2.0
PRODID:-//Scraps - ECPv6.6.4.2//NONSGML v1.0//EN
CALSCALE:GREGORIAN
METHOD:PUBLISH
X-WR-CALNAME:Scraps
X-ORIGINAL-URL:https://scrapsmilehigh.com
X-WR-CALDESC:Events for Scraps
REFRESH-INTERVAL;VALUE=DURATION:PT1H
X-Robots-Tag:noindex
X-PUBLISHED-TTL:PT1H
BEGIN:VTIMEZONE
TZID:America/Denver
BEGIN:DAYLIGHT
TZOFFSETFROM:-0700
TZOFFSETTO:-0600
TZNAME:MDT
DTSTART:20240310T090000
END:DAYLIGHT
BEGIN:STANDARD
TZOFFSETFROM:-0600
TZOFFSETTO:-0700
TZNAME:MST
DTSTART:20241103T080000
END:STANDARD
END:VTIMEZONE
BEGIN:VEVENT
DTSTART;TZID=America/Denver:20240606T070000
DTEND;TZID=America/Denver:20240606T200000
DTSTAMP:20260424T051141
CREATED:20240515T154839Z
LAST-MODIFIED:20240515T154839Z
UID:10000014-1717657200-1717704000@scrapsmilehigh.com
SUMMARY:$ave Green Be Green Conference
DESCRIPTION:Scraps will be providing zero-waste services at the $ave Green Be Green Conference – an event focused on connecting non-profit organizations with funds and resources to implement energy-saving facility upgrades. \n1 Zero-Waste Crew Member needed!
URL:https://scrapsmilehigh.com/zero-waste-event-cal/save-green-be-green-conference/
LOCATION:New Hope Baptist Church\, 3701 Colorado Blvd\, Denver\, CO\, 80205\, United States
ATTACH;FMTTYPE=image/jpeg:/wp-content/uploads/events-2023.jpg
END:VEVENT
END:VCALENDAR